BEGIN:VCALENDAR
VERSION:2.0
PRODID:-//FSV Sandharlanden - ECPv6.15.18//NONSGML v1.0//EN
CALSCALE:GREGORIAN
METHOD:PUBLISH
X-WR-CALNAME:FSV Sandharlanden
X-ORIGINAL-URL:https://fsv-sandharlanden.de
X-WR-CALDESC:Veranstaltungen für FSV Sandharlanden
REFRESH-INTERVAL;VALUE=DURATION:PT1H
X-Robots-Tag:noindex
X-PUBLISHED-TTL:PT1H
BEGIN:VTIMEZONE
TZID:Europe/Berlin
BEGIN:DAYLIGHT
TZOFFSETFROM:+0100
TZOFFSETTO:+0200
TZNAME:CEST
DTSTART:20250330T010000
END:DAYLIGHT
BEGIN:STANDARD
TZOFFSETFROM:+0200
TZOFFSETTO:+0100
TZNAME:CET
DTSTART:20251026T010000
END:STANDARD
BEGIN:DAYLIGHT
TZOFFSETFROM:+0100
TZOFFSETTO:+0200
TZNAME:CEST
DTSTART:20260329T010000
END:DAYLIGHT
BEGIN:STANDARD
TZOFFSETFROM:+0200
TZOFFSETTO:+0100
TZNAME:CET
DTSTART:20261025T010000
END:STANDARD
BEGIN:DAYLIGHT
TZOFFSETFROM:+0100
TZOFFSETTO:+0200
TZNAME:CEST
DTSTART:20270328T010000
END:DAYLIGHT
BEGIN:STANDARD
TZOFFSETFROM:+0200
TZOFFSETTO:+0100
TZNAME:CET
DTSTART:20271031T010000
END:STANDARD
END:VTIMEZONE
BEGIN:VEVENT
DTSTART;TZID=Europe/Berlin:20260301T113000
DTEND;TZID=Europe/Berlin:20260301T113000
DTSTAMP:20260420T132930
CREATED:20260227T110325Z
LAST-MODIFIED:20260227T110432Z
UID:16804-1772364600-1772364600@fsv-sandharlanden.de
SUMMARY:01.03.2026: Sauerbraten mit Semmelknödel und Blaukraut in der Sportgaststätte
DESCRIPTION:
URL:https://fsv-sandharlanden.de/event/06-10-2024-sauerbraten-mit-boehmische-knoedel-und-blaukraut-in-der-sportgaststaette-2/
LOCATION:FSV Sportheim\, Waldstadion 1\, Sandharlanden\, 93326\, Deutschland
CATEGORIES:Sportgaststätte
ATTACH;FMTTYPE=image/jpeg:https://fsv-sandharlanden.de/wp-content/uploads/2021/10/Sportheim.jpg
ORGANIZER;CN="Sportgastst%C3%A4tte FSV Sandharlanden":MAILTO:wirt@vereinsheim-sandharlanden.de
END:VEVENT
BEGIN:VEVENT
DTSTART;TZID=Europe/Berlin:20260304T193000
DTEND;TZID=Europe/Berlin:20260304T203000
DTSTAMP:20260420T132930
CREATED:20260212T132304Z
LAST-MODIFIED:20260212T132304Z
UID:16758-1772652600-1772656200@fsv-sandharlanden.de
SUMMARY:Spinning - Skiclub
DESCRIPTION:Werd´s Fit für die Skisaison 25/26!\n>> Anmeldung <<
URL:https://fsv-sandharlanden.de/event/spinning-skiclub-2-2/
LOCATION:FSV Turnhalle
CATEGORIES:Hauptverein,Ski-Abteilung
ATTACH;FMTTYPE=image/jpeg:https://fsv-sandharlanden.de/wp-content/uploads/2021/10/Biketeam_Spinning4.jpg
END:VEVENT
BEGIN:VEVENT
DTSTART;TZID=Europe/Berlin:20260311T193000
DTEND;TZID=Europe/Berlin:20260311T203000
DTSTAMP:20260420T132931
CREATED:20260212T132346Z
LAST-MODIFIED:20260212T132346Z
UID:16761-1773257400-1773261000@fsv-sandharlanden.de
SUMMARY:Spinning - Skiclub
DESCRIPTION:Werd´s Fit für die Skisaison 25/26!\n>> Anmeldung <<
URL:https://fsv-sandharlanden.de/event/spinning-skiclub-2-2-2/
LOCATION:FSV Turnhalle
CATEGORIES:Hauptverein,Ski-Abteilung
ATTACH;FMTTYPE=image/jpeg:https://fsv-sandharlanden.de/wp-content/uploads/2021/10/Biketeam_Spinning4.jpg
END:VEVENT
BEGIN:VEVENT
DTSTART;VALUE=DATE:20260314
DTEND;VALUE=DATE:20260315
DTSTAMP:20260420T132931
CREATED:20231102T082839Z
LAST-MODIFIED:20251110T063939Z
UID:14602-1773446400-1773532799@fsv-sandharlanden.de
SUMMARY:Tagesfahrt Kirchberg - Skiclub
DESCRIPTION:>>> HIER geht´s zur Anmeldung
URL:https://fsv-sandharlanden.de/event/tagesfahrt-fieberbrunn-skiclub/
LOCATION:Kitzbühel/ Kirchberg
CATEGORIES:Hauptverein,Ski-Abteilung
ATTACH;FMTTYPE=image/png:https://fsv-sandharlanden.de/wp-content/uploads/2019/11/logo-skischule-monte-kapello-sandharlanden.png
END:VEVENT
BEGIN:VEVENT
DTSTART;TZID=Europe/Berlin:20260314T183000
DTEND;TZID=Europe/Berlin:20260314T183000
DTSTAMP:20260420T132931
CREATED:20251017T084146Z
LAST-MODIFIED:20260219T131328Z
UID:16492-1773513000-1773513000@fsv-sandharlanden.de
SUMMARY:Generalversammlung 2026 - FSV Sandharlanden
DESCRIPTION:
URL:https://fsv-sandharlanden.de/event/generalversammlung-2023-2-2/
LOCATION:FSV Sportheim\, Waldstadion 1\, Sandharlanden\, 93326\, Deutschland
CATEGORIES:Bogenschützen,Fußball,Fußball Jugend,Hauptverein,Kegeln,Konditionsgruppe,Ski-Abteilung,Skiclub Bike-Team,Sportgaststätte,Tennis
ATTACH;FMTTYPE=image/jpeg:https://fsv-sandharlanden.de/wp-content/uploads/2019/08/FSV_Logo_mit_Schriftzug-e1573028056211.jpg
END:VEVENT
BEGIN:VEVENT
DTSTART;TZID=Europe/Berlin:20260315T113000
DTEND;TZID=Europe/Berlin:20260315T113000
DTSTAMP:20260420T132931
CREATED:20260313T064440Z
LAST-MODIFIED:20260313T064440Z
UID:16836-1773574200-1773574200@fsv-sandharlanden.de
SUMMARY:15.03.2026: Schweinebraten mit Semmelknödel und Sauerkraut in der Sportgaststätte
DESCRIPTION:
URL:https://fsv-sandharlanden.de/event/16-03-2025-rinderroulade-mit-blaukraut-und-kartoffelbrei-in-der-sportgaststaette-2/
LOCATION:FSV Sportheim\, Waldstadion 1\, Sandharlanden\, 93326\, Deutschland
CATEGORIES:Sportgaststätte
ATTACH;FMTTYPE=image/jpeg:https://fsv-sandharlanden.de/wp-content/uploads/2021/10/Sportheim.jpg
ORGANIZER;CN="Sportgastst%C3%A4tte FSV Sandharlanden":MAILTO:wirt@vereinsheim-sandharlanden.de
END:VEVENT
BEGIN:VEVENT
DTSTART;TZID=Europe/Berlin:20260315T180000
DTEND;TZID=Europe/Berlin:20260315T200000
DTSTAMP:20260420T132931
CREATED:20260223T061610Z
LAST-MODIFIED:20260223T061610Z
UID:16792-1773597600-1773604800@fsv-sandharlanden.de
SUMMARY:Jahreshauptversammlung - Bayernfanclub "Sandhasn97"
DESCRIPTION:Einladung mit Tagesordnung wurde an alle Mitglieder versendet.
URL:https://fsv-sandharlanden.de/event/jahreshauptversammlung-bayernfanclub-sandhasn97-3/
LOCATION:FSV Sportheim\, Waldstadion 1\, Sandharlanden\, 93326\, Deutschland
CATEGORIES:Sandhasn 97
ATTACH;FMTTYPE=image/png:https://fsv-sandharlanden.de/wp-content/uploads/2019/11/Logo_Sandhasn97.png
END:VEVENT
BEGIN:VEVENT
DTSTART;TZID=Europe/Berlin:20260317T190000
DTEND;TZID=Europe/Berlin:20260317T210000
DTSTAMP:20260420T132931
CREATED:20260304T074047Z
LAST-MODIFIED:20260306T130325Z
UID:16816-1773774000-1773781200@fsv-sandharlanden.de
SUMMARY:Festausschußsitzung - FSV Sandharlanden
DESCRIPTION:Fest-Ausschußsitzung des FSV Sandharlanden im Sportheim. Agenda folgt per Mail an alle Beteiligten.
URL:https://fsv-sandharlanden.de/event/ausschusssitzung-fsv-sandharlanden-2-2-2-2-2-2-2-2/
LOCATION:FSV Sportheim\, Waldstadion 1\, Sandharlanden\, 93326\, Deutschland
CATEGORIES:Hauptverein,Sportgaststätte
ATTACH;FMTTYPE=image/jpeg:https://fsv-sandharlanden.de/wp-content/uploads/2025/10/FSV_80.jpg
END:VEVENT
BEGIN:VEVENT
DTSTART;TZID=Europe/Berlin:20260318T193000
DTEND;TZID=Europe/Berlin:20260318T203000
DTSTAMP:20260420T132931
CREATED:20260312T114902Z
LAST-MODIFIED:20260312T114902Z
UID:16827-1773862200-1773865800@fsv-sandharlanden.de
SUMMARY:Spinning - Skiclub
DESCRIPTION:Werd´s Fit für die Skisaison 25/26!\n>> Anmeldung <<
URL:https://fsv-sandharlanden.de/event/spinning-skiclub-2-2-2-2/
LOCATION:FSV Turnhalle
CATEGORIES:Hauptverein,Ski-Abteilung
ATTACH;FMTTYPE=image/jpeg:https://fsv-sandharlanden.de/wp-content/uploads/2021/10/Biketeam_Spinning4.jpg
END:VEVENT
BEGIN:VEVENT
DTSTART;TZID=Europe/Berlin:20260325T193000
DTEND;TZID=Europe/Berlin:20260325T203000
DTSTAMP:20260420T132931
CREATED:20260312T114944Z
LAST-MODIFIED:20260312T114944Z
UID:16830-1774467000-1774470600@fsv-sandharlanden.de
SUMMARY:Spinning - Skiclub
DESCRIPTION:Werd´s Fit für die Skisaison 25/26!\n>> Anmeldung <<
URL:https://fsv-sandharlanden.de/event/spinning-skiclub-2-2-2-2-2/
LOCATION:FSV Turnhalle
CATEGORIES:Hauptverein,Ski-Abteilung
ATTACH;FMTTYPE=image/jpeg:https://fsv-sandharlanden.de/wp-content/uploads/2021/10/Biketeam_Spinning4.jpg
END:VEVENT
BEGIN:VEVENT
DTSTART;VALUE=DATE:20260328
DTEND;VALUE=DATE:20260329
DTSTAMP:20260420T132931
CREATED:20260326T055934Z
LAST-MODIFIED:20260326T055934Z
UID:16873-1774656000-1774742399@fsv-sandharlanden.de
SUMMARY:Sportgaststätte am Samstag geschlossen
DESCRIPTION:
URL:https://fsv-sandharlanden.de/event/gillamoos-sportgaststaette-geschlossen-2-2-2/
LOCATION:FSV Sportheim\, Waldstadion 1\, Sandharlanden\, 93326\, Deutschland
CATEGORIES:Hauptverein,Sportgaststätte
ATTACH;FMTTYPE=image/png:https://fsv-sandharlanden.de/wp-content/uploads/2026/01/Geschlossen_Sportgaststaette.png
ORGANIZER;CN="Sportgastst%C3%A4tte FSV Sandharlanden":MAILTO:wirt@vereinsheim-sandharlanden.de
END:VEVENT
END:VCALENDAR