BEGIN:VCALENDAR
VERSION:2.0
PRODID:-//FSV Sandharlanden - ECPv6.15.18//NONSGML v1.0//EN
CALSCALE:GREGORIAN
METHOD:PUBLISH
X-WR-CALNAME:FSV Sandharlanden
X-ORIGINAL-URL:https://fsv-sandharlanden.de
X-WR-CALDESC:Veranstaltungen für FSV Sandharlanden
REFRESH-INTERVAL;VALUE=DURATION:PT1H
X-Robots-Tag:noindex
X-PUBLISHED-TTL:PT1H
BEGIN:VTIMEZONE
TZID:Europe/Berlin
BEGIN:DAYLIGHT
TZOFFSETFROM:+0100
TZOFFSETTO:+0200
TZNAME:CEST
DTSTART:20240331T010000
END:DAYLIGHT
BEGIN:STANDARD
TZOFFSETFROM:+0200
TZOFFSETTO:+0100
TZNAME:CET
DTSTART:20241027T010000
END:STANDARD
BEGIN:DAYLIGHT
TZOFFSETFROM:+0100
TZOFFSETTO:+0200
TZNAME:CEST
DTSTART:20250330T010000
END:DAYLIGHT
BEGIN:STANDARD
TZOFFSETFROM:+0200
TZOFFSETTO:+0100
TZNAME:CET
DTSTART:20251026T010000
END:STANDARD
BEGIN:DAYLIGHT
TZOFFSETFROM:+0100
TZOFFSETTO:+0200
TZNAME:CEST
DTSTART:20260329T010000
END:DAYLIGHT
BEGIN:STANDARD
TZOFFSETFROM:+0200
TZOFFSETTO:+0100
TZNAME:CET
DTSTART:20261025T010000
END:STANDARD
BEGIN:DAYLIGHT
TZOFFSETFROM:+0100
TZOFFSETTO:+0200
TZNAME:CEST
DTSTART:20270328T010000
END:DAYLIGHT
BEGIN:STANDARD
TZOFFSETFROM:+0200
TZOFFSETTO:+0100
TZNAME:CET
DTSTART:20271031T010000
END:STANDARD
END:VTIMEZONE
BEGIN:VEVENT
DTSTART;TZID=Europe/Berlin:20251227T140000
DTEND;TZID=Europe/Berlin:20260104T230000
DTSTAMP:20260422T130035
CREATED:20251111T132012Z
LAST-MODIFIED:20251111T132012Z
UID:16625-1766844000-1767567600@fsv-sandharlanden.de
SUMMARY:Sportabzeichen für Privatkegler - Abteilung Kegeln
DESCRIPTION:
URL:https://fsv-sandharlanden.de/event/sportabzeichen-fuer-privatkegler-abteilung-kegeln-2-2/
LOCATION:FSV Sportheim\, Waldstadion 1\, Sandharlanden\, 93326\, Deutschland
CATEGORIES:Hauptverein,Kegeln
ATTACH;FMTTYPE=image/jpeg:https://fsv-sandharlanden.de/wp-content/uploads/2020/09/Kegelbahn02.jpg
END:VEVENT
BEGIN:VEVENT
DTSTART;TZID=Europe/Berlin:20260107T193000
DTEND;TZID=Europe/Berlin:20260107T203000
DTSTAMP:20260422T130035
CREATED:20260105T080259Z
LAST-MODIFIED:20260105T080604Z
UID:16684-1767814200-1767817800@fsv-sandharlanden.de
SUMMARY:Spinning - Skiclub
DESCRIPTION:Werd´s Fit für die Skisaison 25/26!\n>> Anmeldung
URL:https://fsv-sandharlanden.de/event/skigymnastik-skiclub-2-2-2-2-2-2/
LOCATION:FSV Turnhalle
CATEGORIES:Hauptverein,Ski-Abteilung
ATTACH;FMTTYPE=image/jpeg:https://fsv-sandharlanden.de/wp-content/uploads/2021/10/Biketeam_Spinning4.jpg
END:VEVENT
BEGIN:VEVENT
DTSTART;TZID=Europe/Berlin:20260108T190000
DTEND;TZID=Europe/Berlin:20260108T200000
DTSTAMP:20260422T130035
CREATED:20251110T065417Z
LAST-MODIFIED:20251110T065417Z
UID:16596-1767898800-1767902400@fsv-sandharlanden.de
SUMMARY:Skigymnastik - Skiclub
DESCRIPTION:Werd´s Fit für die Skisaison 25/26!\n>>> HIER geht´s zur Anmeldung
URL:https://fsv-sandharlanden.de/event/skigymnastik-skiclub-2-2-3-2-2/
LOCATION:FSV Turnhalle
CATEGORIES:Hauptverein,Ski-Abteilung
ATTACH;FMTTYPE=image/jpeg:https://fsv-sandharlanden.de/wp-content/uploads/2024/11/Skigymnastik_Logo.jpg
END:VEVENT
BEGIN:VEVENT
DTSTART;TZID=Europe/Berlin:20260108T190000
DTEND;TZID=Europe/Berlin:20260108T210000
DTSTAMP:20260422T130035
CREATED:20251210T081213Z
LAST-MODIFIED:20251210T081213Z
UID:16671-1767898800-1767906000@fsv-sandharlanden.de
SUMMARY:Festausschußsitzung - FSV Sandharlanden
DESCRIPTION:Fest-Ausschußsitzung des FSV Sandharlanden im Sportheim. Agenda folgt per Mail an alle Beteiligten.
URL:https://fsv-sandharlanden.de/event/ausschusssitzung-fsv-sandharlanden-2-2-2-2-2-2-2/
LOCATION:FSV Sportheim\, Waldstadion 1\, Sandharlanden\, 93326\, Deutschland
CATEGORIES:Hauptverein,Sportgaststätte
ATTACH;FMTTYPE=image/jpeg:https://fsv-sandharlanden.de/wp-content/uploads/2019/08/FSV_Logo_mit_Schriftzug-e1573028056211.jpg
END:VEVENT
BEGIN:VEVENT
DTSTART;VALUE=DATE:20260109
DTEND;VALUE=DATE:20260112
DTSTAMP:20260422T130035
CREATED:20251010T053836Z
LAST-MODIFIED:20251010T053836Z
UID:16483-1767916800-1768175999@fsv-sandharlanden.de
SUMMARY:Mitarbeiterseminar - Skiclub
DESCRIPTION:Mitarbeiterseminar nach Waidring\, es wären noch Plätze frei. Wer Interesse hat einfach melden bei Julian Kroiß
URL:https://fsv-sandharlanden.de/event/skiclub-mitarbeiterseminar-in-garmisch-3/
LOCATION:Waidring
CATEGORIES:Ski-Abteilung
ATTACH;FMTTYPE=image/png:https://fsv-sandharlanden.de/wp-content/uploads/2019/11/logo-skischule-monte-kapello-sandharlanden.png
END:VEVENT
BEGIN:VEVENT
DTSTART;VALUE=DATE:20260110
DTEND;VALUE=DATE:20260111
DTSTAMP:20260422T130035
CREATED:20230829T083046Z
LAST-MODIFIED:20260111T101220Z
UID:14428-1768003200-1768089599@fsv-sandharlanden.de
SUMMARY:Sportgaststätte geschlossen (10.01.26)
DESCRIPTION:Sportgaststätte ist am 10.01.26 zwecks Terminüberschneidung geschlossen!
URL:https://fsv-sandharlanden.de/event/gillamoos-sportgaststaette-geschlossen/
LOCATION:FSV Sportheim\, Waldstadion 1\, Sandharlanden\, 93326\, Deutschland
CATEGORIES:Hauptverein,Sportgaststätte
ORGANIZER;CN="Sportgastst%C3%A4tte FSV Sandharlanden":MAILTO:wirt@vereinsheim-sandharlanden.de
END:VEVENT
BEGIN:VEVENT
DTSTART;TZID=Europe/Berlin:20260114T193000
DTEND;TZID=Europe/Berlin:20260114T203000
DTSTAMP:20260422T130035
CREATED:20260105T080856Z
LAST-MODIFIED:20260105T080856Z
UID:16689-1768419000-1768422600@fsv-sandharlanden.de
SUMMARY:Spinning - Skiclub
DESCRIPTION:Werd´s Fit für die Skisaison 25/26!\n>> Anmeldung
URL:https://fsv-sandharlanden.de/event/skigymnastik-skiclub-2-2-2-2-2-2-2/
LOCATION:FSV Turnhalle
CATEGORIES:Hauptverein,Ski-Abteilung
ATTACH;FMTTYPE=image/jpeg:https://fsv-sandharlanden.de/wp-content/uploads/2021/10/Biketeam_Spinning4.jpg
END:VEVENT
BEGIN:VEVENT
DTSTART;VALUE=DATE:20260117
DTEND;VALUE=DATE:20260119
DTSTAMP:20260422T130035
CREATED:20251010T054028Z
LAST-MODIFIED:20251110T063508Z
UID:16487-1768608000-1768780799@fsv-sandharlanden.de
SUMMARY:2 Tage Kinder- Skikurs Lenggries - Skiclub
DESCRIPTION:>>> HIER geht´s zur Anmeldung
URL:https://fsv-sandharlanden.de/event/2-tage-skikurs-lenggries-skiclub-2-2/
LOCATION:Lenggries
CATEGORIES:Hauptverein,Ski-Abteilung
ATTACH;FMTTYPE=image/png:https://fsv-sandharlanden.de/wp-content/uploads/2019/11/logo-skischule-monte-kapello-sandharlanden.png
END:VEVENT
BEGIN:VEVENT
DTSTART;TZID=Europe/Berlin:20260121T193000
DTEND;TZID=Europe/Berlin:20260121T203000
DTSTAMP:20260422T130035
CREATED:20260105T080935Z
LAST-MODIFIED:20260105T080935Z
UID:16692-1769023800-1769027400@fsv-sandharlanden.de
SUMMARY:Spinning - Skiclub
DESCRIPTION:Werd´s Fit für die Skisaison 25/26!\n>> Anmeldung
URL:https://fsv-sandharlanden.de/event/skigymnastik-skiclub-2-2-2-2-2-2-2-2/
LOCATION:FSV Turnhalle
CATEGORIES:Hauptverein,Ski-Abteilung
ATTACH;FMTTYPE=image/jpeg:https://fsv-sandharlanden.de/wp-content/uploads/2021/10/Biketeam_Spinning4.jpg
END:VEVENT
BEGIN:VEVENT
DTSTART;TZID=Europe/Berlin:20260122T190000
DTEND;TZID=Europe/Berlin:20260122T200000
DTSTAMP:20260422T130035
CREATED:20251110T065446Z
LAST-MODIFIED:20251110T065446Z
UID:16599-1769108400-1769112000@fsv-sandharlanden.de
SUMMARY:Skigymnastik - Skiclub
DESCRIPTION:Werd´s Fit für die Skisaison 25/26!\n>>> HIER geht´s zur Anmeldung
URL:https://fsv-sandharlanden.de/event/skigymnastik-skiclub-2-2-3-2-2-2/
LOCATION:FSV Turnhalle
CATEGORIES:Hauptverein,Ski-Abteilung
ATTACH;FMTTYPE=image/jpeg:https://fsv-sandharlanden.de/wp-content/uploads/2024/11/Skigymnastik_Logo.jpg
END:VEVENT
BEGIN:VEVENT
DTSTART;VALUE=DATE:20260123
DTEND;VALUE=DATE:20260124
DTSTAMP:20260422T130035
CREATED:20260112T060315Z
LAST-MODIFIED:20260112T060315Z
UID:16721-1769126400-1769212799@fsv-sandharlanden.de
SUMMARY:Sportgaststätte geschlossen (23.01.26)
DESCRIPTION:Sportgaststätte ist am 23.01.26 zwecks Terminüberschneidung geschlossen!
URL:https://fsv-sandharlanden.de/event/gillamoos-sportgaststaette-geschlossen-2/
LOCATION:FSV Sportheim\, Waldstadion 1\, Sandharlanden\, 93326\, Deutschland
CATEGORIES:Hauptverein,Sportgaststätte
ORGANIZER;CN="Sportgastst%C3%A4tte FSV Sandharlanden":MAILTO:wirt@vereinsheim-sandharlanden.de
END:VEVENT
BEGIN:VEVENT
DTSTART;TZID=Europe/Berlin:20260128T193000
DTEND;TZID=Europe/Berlin:20260128T203000
DTSTAMP:20260422T130035
CREATED:20260105T081009Z
LAST-MODIFIED:20260105T081009Z
UID:16695-1769628600-1769632200@fsv-sandharlanden.de
SUMMARY:Spinning - Skiclub
DESCRIPTION:Werd´s Fit für die Skisaison 25/26!\n>> Anmeldung
URL:https://fsv-sandharlanden.de/event/skigymnastik-skiclub-2-2-2-2-2-2-2-2-2/
LOCATION:FSV Turnhalle
CATEGORIES:Hauptverein,Ski-Abteilung
ATTACH;FMTTYPE=image/jpeg:https://fsv-sandharlanden.de/wp-content/uploads/2021/10/Biketeam_Spinning4.jpg
END:VEVENT
BEGIN:VEVENT
DTSTART;TZID=Europe/Berlin:20260130T190000
DTEND;TZID=Europe/Berlin:20260130T190000
DTSTAMP:20260422T130035
CREATED:20251020T062047Z
LAST-MODIFIED:20260111T102057Z
UID:16553-1769799600-1769799600@fsv-sandharlanden.de
SUMMARY:Frauenfasching in der Sportgaststätte - Frauenbund
DESCRIPTION:
URL:https://fsv-sandharlanden.de/event/frauenfasching-in-der-sportgaststaette-2-2/
LOCATION:FSV Sportheim\, Waldstadion 1\, Sandharlanden\, 93326\, Deutschland
CATEGORIES:Frauenbund
ATTACH;FMTTYPE=image/jpeg:https://fsv-sandharlanden.de/wp-content/uploads/2023/01/Weiberfasching.jpg
END:VEVENT
BEGIN:VEVENT
DTSTART;TZID=Europe/Berlin:20260131T190000
DTEND;TZID=Europe/Berlin:20260131T190000
DTSTAMP:20260422T130035
CREATED:20260116T095032Z
LAST-MODIFIED:20260116T095212Z
UID:16730-1769886000-1769886000@fsv-sandharlanden.de
SUMMARY:Reiterball im Sportheim - Pferdesportverein Abensberg
DESCRIPTION:
URL:https://fsv-sandharlanden.de/event/reiterball-im-sportheim/
LOCATION:FSV Sportheim\, Waldstadion 1\, Sandharlanden\, 93326\, Deutschland
CATEGORIES:Sportgaststätte
ATTACH;FMTTYPE=image/jpeg:https://fsv-sandharlanden.de/wp-content/uploads/2026/01/Reiterball_26.jpg
END:VEVENT
END:VCALENDAR