BEGIN:VCALENDAR
VERSION:2.0
PRODID:-//FSV Sandharlanden - ECPv6.15.18//NONSGML v1.0//EN
CALSCALE:GREGORIAN
METHOD:PUBLISH
X-WR-CALNAME:FSV Sandharlanden
X-ORIGINAL-URL:https://fsv-sandharlanden.de
X-WR-CALDESC:Veranstaltungen für FSV Sandharlanden
REFRESH-INTERVAL;VALUE=DURATION:PT1H
X-Robots-Tag:noindex
X-PUBLISHED-TTL:PT1H
BEGIN:VTIMEZONE
TZID:Europe/Berlin
BEGIN:DAYLIGHT
TZOFFSETFROM:+0100
TZOFFSETTO:+0200
TZNAME:CEST
DTSTART:20240331T010000
END:DAYLIGHT
BEGIN:STANDARD
TZOFFSETFROM:+0200
TZOFFSETTO:+0100
TZNAME:CET
DTSTART:20241027T010000
END:STANDARD
BEGIN:DAYLIGHT
TZOFFSETFROM:+0100
TZOFFSETTO:+0200
TZNAME:CEST
DTSTART:20250330T010000
END:DAYLIGHT
BEGIN:STANDARD
TZOFFSETFROM:+0200
TZOFFSETTO:+0100
TZNAME:CET
DTSTART:20251026T010000
END:STANDARD
BEGIN:DAYLIGHT
TZOFFSETFROM:+0100
TZOFFSETTO:+0200
TZNAME:CEST
DTSTART:20260329T010000
END:DAYLIGHT
BEGIN:STANDARD
TZOFFSETFROM:+0200
TZOFFSETTO:+0100
TZNAME:CET
DTSTART:20261025T010000
END:STANDARD
END:VTIMEZONE
BEGIN:VEVENT
DTSTART;TZID=Europe/Berlin:20251103T093000
DTEND;TZID=Europe/Berlin:20251105T160000
DTSTAMP:20260424T114817
CREATED:20250211T060606Z
LAST-MODIFIED:20250918T090146Z
UID:15814-1762162200-1762358400@fsv-sandharlanden.de
SUMMARY:Kinder- Herbstcamp SSV Jahn Regensburg - Fußball- Jugendabteilung
DESCRIPTION:Unter dem Link gibt´s weitere Infos: \n>>> Herbstcamp SSV Jahn Regensburg beim FSV Sandharlanden <<<\n  \nDie Jahn Feriencamps sind für alle Kinder zwischen sechs und 13 Jahren\, die großen Spaß am Fußball haben und ihre Schulferien aktiv damit gestalten wollen. Den Nachwuchsspielerinnen und –spielern wird dabei ein altersgerechtes Training mit abwechslungsreichen Rahmenprogramm geboten. Jedem Kind soll so die Freude an der schönsten Nebensache der Welt ermöglicht werden. Sicherstellen tun dies vor allem die erfahrenen und lizenzierten Trainer des SSV Jahn\, denen die Camp-Leitung obliegt. Mit viel Freude bringen diese den Kindern das Fußballspielen von der Pike auf bei.\nDie teilnehmenden Kinder können sich hierbei je nach Camp zwei bzw. drei Tage lang an knapp 40 verschiedenen Standorten in ganz Ostbayern mit dem Ball austoben\, neue Freunde kennenlernen und unvergesslich Momente erleben. \nLeistungen: \n\nEine Jahn Feriencamp-Trainingsausrüstung bestehend aus Turnbeutel\, Fußballschultrikot\, Hose\, Stutze\, Trinkflasche und weiterer kleiner Überraschungen\nUmfangreiche Trainingsgestaltung aufbauend auf dem Ausbildungskonzept der Jahnschmiede – altersgerecht und abwechslungsreich\nEin großes Abschlussturnier samt Siegerehrung mit Urkunde\, Medaille und weiterer Preise als Andenken für die Nachwuchskicker\nBesuch von Jahni – das Maskottchen des SSV Jahn Regensburg\nEin kindgerechtes Mittagessen an jedem Camp-Tag sowie eine ganztägige Getränkeversorgung\nEine vielfältige Mittagspause mit Rahmenprogramm\nEine tägliche Betreuung von 9:30 bis 16:00 Uhr (Training von 10:00 – 15:30 Uhr)\nDrei Tage Fußballferienspaß pur für 169 Euro\n\n \n 
URL:https://fsv-sandharlanden.de/event/kinder-herbstcamp-ssv-jahn-regensburg-2/
LOCATION:Sportgelände FSV Sandharlanden\, Waldstadion 1\, Sandharlanden\, 93326
CATEGORIES:Fußball,Fußball Jugend
ATTACH;FMTTYPE=image/png:https://fsv-sandharlanden.de/wp-content/uploads/2021/06/SSV-Jahn-Regensburg-Logo.png
END:VEVENT
BEGIN:VEVENT
DTSTART;TZID=Europe/Berlin:20251105T180000
DTEND;TZID=Europe/Berlin:20251105T180000
DTSTAMP:20260424T114817
CREATED:20250603T050237Z
LAST-MODIFIED:20251102T103047Z
UID:16112-1762365600-1762365600@fsv-sandharlanden.de
SUMMARY:05.11.2025: Ripperlbuffet (All you can Eat) in der Sportgaststätte
DESCRIPTION:
URL:https://fsv-sandharlanden.de/event/05-11-2025-ripperlbuffet-all-you-can-eat-in-der-sportgaststaette/
LOCATION:FSV Sportheim\, Waldstadion 1\, Sandharlanden\, 93326\, Deutschland
CATEGORIES:Sportgaststätte
ATTACH;FMTTYPE=image/jpeg:https://fsv-sandharlanden.de/wp-content/uploads/2021/10/Sportheim1.jpg
ORGANIZER;CN="Sportgastst%C3%A4tte FSV Sandharlanden":MAILTO:wirt@vereinsheim-sandharlanden.de
END:VEVENT
BEGIN:VEVENT
DTSTART;TZID=Europe/Berlin:20251107T200000
DTEND;TZID=Europe/Berlin:20251107T200000
DTSTAMP:20260424T114817
CREATED:20241108T084452Z
LAST-MODIFIED:20250913T065225Z
UID:15687-1762545600-1762545600@fsv-sandharlanden.de
SUMMARY:Discoparty 2025 in der FSV Turnhalle - KLJB Sandharlanden
DESCRIPTION:
URL:https://fsv-sandharlanden.de/event/discoparty-2023-kljb-sandharlanden-2/
LOCATION:FSV Sportheim\, Waldstadion 1\, Sandharlanden\, 93326\, Deutschland
CATEGORIES:Hauptverein,KLJB,Sportgaststätte
ATTACH;FMTTYPE=image/jpeg:https://fsv-sandharlanden.de/wp-content/uploads/2024/11/Discoparty2025.jpg
END:VEVENT
BEGIN:VEVENT
DTSTART;TZID=Europe/Berlin:20251109T150000
DTEND;TZID=Europe/Berlin:20251109T150000
DTSTAMP:20260424T114817
CREATED:20251010T053105Z
LAST-MODIFIED:20251014T064054Z
UID:16477-1762700400-1762700400@fsv-sandharlanden.de
SUMMARY:Glühwein Wanderung - Skiclub
DESCRIPTION:
URL:https://fsv-sandharlanden.de/event/gluehwein-wanderung-skiclub-2/
LOCATION:Sandharlanden
CATEGORIES:Ski-Abteilung
ATTACH;FMTTYPE=image/jpeg:https://fsv-sandharlanden.de/wp-content/uploads/2025/10/Gluehweinwanderung_2025-scaled.jpg
END:VEVENT
BEGIN:VEVENT
DTSTART;TZID=Europe/Berlin:20251113T190000
DTEND;TZID=Europe/Berlin:20251113T200000
DTSTAMP:20260424T114817
CREATED:20241104T152046Z
LAST-MODIFIED:20251110T065132Z
UID:15574-1763060400-1763064000@fsv-sandharlanden.de
SUMMARY:Skigymnastik - Skiclub
DESCRIPTION:Werd´s Fit für die Skisaison 25/26!\n>>> HIER geht´s zur Anmeldung
URL:https://fsv-sandharlanden.de/event/skigymnastik-skiclub-2-2/
LOCATION:FSV Turnhalle
CATEGORIES:Hauptverein,Ski-Abteilung
ATTACH;FMTTYPE=image/jpeg:https://fsv-sandharlanden.de/wp-content/uploads/2024/11/Skigymnastik_Logo.jpg
END:VEVENT
BEGIN:VEVENT
DTSTART;TZID=Europe/Berlin:20251122T170000
DTEND;TZID=Europe/Berlin:20251122T170000
DTSTAMP:20260424T114817
CREATED:20251010T053632Z
LAST-MODIFIED:20251110T064821Z
UID:16480-1763830800-1763830800@fsv-sandharlanden.de
SUMMARY:Skiclub- Info mit Programmvorstellung und Neuwahlen
DESCRIPTION:Versammlung mit Infos\, Skiprogrammvorstellung und Neuwahlen am 22.11.25 im der Vereinsgaststätte um 17 Uhr.
URL:https://fsv-sandharlanden.de/event/skiclub-info-mit-programmvorstellung-2023-24-2/
LOCATION:FSV Sportheim\, Waldstadion 1\, Sandharlanden\, 93326\, Deutschland
CATEGORIES:Ski-Abteilung
ATTACH;FMTTYPE=image/png:https://fsv-sandharlanden.de/wp-content/uploads/2019/09/Skischule-Logo.png
END:VEVENT
BEGIN:VEVENT
DTSTART;TZID=Europe/Berlin:20251122T190000
DTEND;TZID=Europe/Berlin:20251122T190000
DTSTAMP:20260424T114817
CREATED:20241108T084616Z
LAST-MODIFIED:20251103T130712Z
UID:15691-1763838000-1763838000@fsv-sandharlanden.de
SUMMARY:Jahresabschlußfeier im Sportheim "Sandhasn 97"
DESCRIPTION:Servus!\nDie Sandhasn- Vortandschaft erbittet bis spätestens 15.11 Anmeldung mit Essenswunsch und Personenanzahl.\nEinladung wurde per Whats-App und EMail verteilt.  \nDer Fanclub „Sandhasn97“ freut sich auf einen stimmungsvollen Abend im Sportheim Sandharlanden.
URL:https://fsv-sandharlanden.de/event/jahresabschlussfeier-sandhasn-97-2-3/
LOCATION:FSV Sportheim\, Waldstadion 1\, Sandharlanden\, 93326\, Deutschland
CATEGORIES:Sandhasn 97
ATTACH;FMTTYPE=image/png:https://fsv-sandharlanden.de/wp-content/uploads/2019/11/Logo_Sandhasn97.png
END:VEVENT
BEGIN:VEVENT
DTSTART;TZID=Europe/Berlin:20251127T190000
DTEND;TZID=Europe/Berlin:20251127T200000
DTSTAMP:20260424T114817
CREATED:20251110T065224Z
LAST-MODIFIED:20251110T065231Z
UID:16589-1764270000-1764273600@fsv-sandharlanden.de
SUMMARY:Skigymnastik - Skiclub
DESCRIPTION:Werd´s Fit für die Skisaison 25/26!\n>>> HIER geht´s zur Anmeldung
URL:https://fsv-sandharlanden.de/event/skigymnastik-skiclub-2-2-3/
LOCATION:FSV Turnhalle
CATEGORIES:Hauptverein,Ski-Abteilung
ATTACH;FMTTYPE=image/jpeg:https://fsv-sandharlanden.de/wp-content/uploads/2024/11/Skigymnastik_Logo.jpg
END:VEVENT
BEGIN:VEVENT
DTSTART;TZID=Europe/Berlin:20251128T183000
DTEND;TZID=Europe/Berlin:20251128T233000
DTSTAMP:20260424T114817
CREATED:20250915T134649Z
LAST-MODIFIED:20250915T134649Z
UID:16442-1764354600-1764372600@fsv-sandharlanden.de
SUMMARY:A2 Jahresabschluß in der Sportgaststätte - Fußballjugend
DESCRIPTION:28. November 2025 – 18:30 Uhr – Jahresabschlußfeier der A2 Fußballer unserer SG Abensberg/ Sandharlanden/ Gögging/ Weltenburg
URL:https://fsv-sandharlanden.de/event/a2-jahresabschluss-in-der-sportgaststaette-fussballjugend/
LOCATION:FSV Sportheim\, Waldstadion 1\, Sandharlanden\, 93326\, Deutschland
CATEGORIES:Fußball,Fußball Jugend
ATTACH;FMTTYPE=image/jpeg:https://fsv-sandharlanden.de/wp-content/uploads/2025/09/A2.jpg
END:VEVENT
BEGIN:VEVENT
DTSTART;TZID=Europe/Berlin:20251130T110000
DTEND;TZID=Europe/Berlin:20251130T110000
DTSTAMP:20260424T114817
CREATED:20251126T114903Z
LAST-MODIFIED:20251126T114903Z
UID:16635-1764500400-1764500400@fsv-sandharlanden.de
SUMMARY:30.11.2025: Tafelspitz mit Kartoffeln und Gemüse in der Sportgaststätte
DESCRIPTION:
URL:https://fsv-sandharlanden.de/event/27-10-24-ochsbackerl-mit-kartoffeln-und-gemuese-in-der-sportgaststaette-2-2/
LOCATION:FSV Sportheim\, Waldstadion 1\, Sandharlanden\, 93326\, Deutschland
CATEGORIES:Sportgaststätte
ATTACH;FMTTYPE=image/jpeg:https://fsv-sandharlanden.de/wp-content/uploads/2021/10/Sportheim.jpg
ORGANIZER;CN="Sportgastst%C3%A4tte FSV Sandharlanden":MAILTO:wirt@vereinsheim-sandharlanden.de
END:VEVENT
END:VCALENDAR