BEGIN:VCALENDAR
VERSION:2.0
PRODID:-//FSV Sandharlanden - ECPv6.15.18//NONSGML v1.0//EN
CALSCALE:GREGORIAN
METHOD:PUBLISH
X-ORIGINAL-URL:https://fsv-sandharlanden.de
X-WR-CALDESC:Veranstaltungen für FSV Sandharlanden
REFRESH-INTERVAL;VALUE=DURATION:PT1H
X-Robots-Tag:noindex
X-PUBLISHED-TTL:PT1H
BEGIN:VTIMEZONE
TZID:Europe/Berlin
BEGIN:DAYLIGHT
TZOFFSETFROM:+0100
TZOFFSETTO:+0200
TZNAME:CEST
DTSTART:20250330T010000
END:DAYLIGHT
BEGIN:STANDARD
TZOFFSETFROM:+0200
TZOFFSETTO:+0100
TZNAME:CET
DTSTART:20251026T010000
END:STANDARD
BEGIN:DAYLIGHT
TZOFFSETFROM:+0100
TZOFFSETTO:+0200
TZNAME:CEST
DTSTART:20260329T010000
END:DAYLIGHT
BEGIN:STANDARD
TZOFFSETFROM:+0200
TZOFFSETTO:+0100
TZNAME:CET
DTSTART:20261025T010000
END:STANDARD
BEGIN:DAYLIGHT
TZOFFSETFROM:+0100
TZOFFSETTO:+0200
TZNAME:CEST
DTSTART:20270328T010000
END:DAYLIGHT
BEGIN:STANDARD
TZOFFSETFROM:+0200
TZOFFSETTO:+0100
TZNAME:CET
DTSTART:20271031T010000
END:STANDARD
END:VTIMEZONE
BEGIN:VEVENT
DTSTART;VALUE=DATE:20261218
DTEND;VALUE=DATE:20261221
DTSTAMP:20260424T183429
CREATED:20251017T084508Z
LAST-MODIFIED:20260224T091048Z
UID:16521-1797552000-1797811199@fsv-sandharlanden.de
SUMMARY:FSV Event- Skifahrt Kitzbühel/ Kirchberg
DESCRIPTION:Wie gewohnt ist hier ganz Sandharlanden beim Skifahren…;-)
URL:https://fsv-sandharlanden.de/event/fsv-event-skifahrt-kitzbuehel-kirchberg-2-2/
LOCATION:Kitzbühel/ Kirchberg
CATEGORIES:Fußball
ATTACH;FMTTYPE=image/png:https://fsv-sandharlanden.de/wp-content/uploads/2025/10/Kitz.png
END:VEVENT
END:VCALENDAR