BEGIN:VCALENDAR
VERSION:2.0
PRODID:-//FSV Sandharlanden - ECPv6.15.18//NONSGML v1.0//EN
CALSCALE:GREGORIAN
METHOD:PUBLISH
X-ORIGINAL-URL:https://fsv-sandharlanden.de
X-WR-CALDESC:Veranstaltungen für FSV Sandharlanden
REFRESH-INTERVAL;VALUE=DURATION:PT1H
X-Robots-Tag:noindex
X-PUBLISHED-TTL:PT1H
BEGIN:VTIMEZONE
TZID:Europe/Berlin
BEGIN:DAYLIGHT
TZOFFSETFROM:+0100
TZOFFSETTO:+0200
TZNAME:CEST
DTSTART:20250330T010000
END:DAYLIGHT
BEGIN:STANDARD
TZOFFSETFROM:+0200
TZOFFSETTO:+0100
TZNAME:CET
DTSTART:20251026T010000
END:STANDARD
BEGIN:DAYLIGHT
TZOFFSETFROM:+0100
TZOFFSETTO:+0200
TZNAME:CEST
DTSTART:20260329T010000
END:DAYLIGHT
BEGIN:STANDARD
TZOFFSETFROM:+0200
TZOFFSETTO:+0100
TZNAME:CET
DTSTART:20261025T010000
END:STANDARD
BEGIN:DAYLIGHT
TZOFFSETFROM:+0100
TZOFFSETTO:+0200
TZNAME:CEST
DTSTART:20270328T010000
END:DAYLIGHT
BEGIN:STANDARD
TZOFFSETFROM:+0200
TZOFFSETTO:+0100
TZNAME:CET
DTSTART:20271031T010000
END:STANDARD
END:VTIMEZONE
BEGIN:VEVENT
DTSTART;VALUE=DATE:20260620
DTEND;VALUE=DATE:20260622
DTSTAMP:20260420T115936
CREATED:20260313T055552Z
LAST-MODIFIED:20260313T055552Z
UID:16833-1781913600-1782086399@fsv-sandharlanden.de
SUMMARY:Sunset Beach Party - Vereinsheim
DESCRIPTION:Infos und Programm folgt!
URL:https://fsv-sandharlanden.de/event/sunset-beach-party-vereinsheim-2/
LOCATION:Sportgelände FSV Sandharlanden\, Waldstadion 1\, Sandharlanden\, 93326
CATEGORIES:Hauptverein,Sportgaststätte
ATTACH;FMTTYPE=image/png:https://fsv-sandharlanden.de/wp-content/uploads/2025/04/VH_OpenAir_2025.png
ORGANIZER;CN="Sportgastst%C3%A4tte FSV Sandharlanden":MAILTO:wirt@vereinsheim-sandharlanden.de
END:VEVENT
BEGIN:VEVENT
DTSTART;TZID=Europe/Berlin:20260620T090000
DTEND;TZID=Europe/Berlin:20260621T133000
DTSTAMP:20260420T115936
CREATED:20260324T062629Z
LAST-MODIFIED:20260324T062629Z
UID:16858-1781946000-1782048600@fsv-sandharlanden.de
SUMMARY:Einsteigerkurs - Bogenschützen
DESCRIPTION:
URL:https://fsv-sandharlanden.de/event/einsteigerkurs-bogenschuetzen/
LOCATION:Sportgelände FSV Sandharlanden\, Waldstadion 1\, Sandharlanden\, 93326
CATEGORIES:Bogenschützen
ATTACH;FMTTYPE=image/jpeg:https://fsv-sandharlanden.de/wp-content/uploads/2019/10/Bogenschützen-Abteilung.jpg
END:VEVENT
END:VCALENDAR