BEGIN:VCALENDAR
VERSION:2.0
PRODID:-//FSV Sandharlanden - ECPv6.15.18//NONSGML v1.0//EN
CALSCALE:GREGORIAN
METHOD:PUBLISH
X-ORIGINAL-URL:https://fsv-sandharlanden.de
X-WR-CALDESC:Veranstaltungen für FSV Sandharlanden
REFRESH-INTERVAL;VALUE=DURATION:PT1H
X-Robots-Tag:noindex
X-PUBLISHED-TTL:PT1H
BEGIN:VTIMEZONE
TZID:Europe/Berlin
BEGIN:DAYLIGHT
TZOFFSETFROM:+0100
TZOFFSETTO:+0200
TZNAME:CEST
DTSTART:20250330T010000
END:DAYLIGHT
BEGIN:STANDARD
TZOFFSETFROM:+0200
TZOFFSETTO:+0100
TZNAME:CET
DTSTART:20251026T010000
END:STANDARD
BEGIN:DAYLIGHT
TZOFFSETFROM:+0100
TZOFFSETTO:+0200
TZNAME:CEST
DTSTART:20260329T010000
END:DAYLIGHT
BEGIN:STANDARD
TZOFFSETFROM:+0200
TZOFFSETTO:+0100
TZNAME:CET
DTSTART:20261025T010000
END:STANDARD
BEGIN:DAYLIGHT
TZOFFSETFROM:+0100
TZOFFSETTO:+0200
TZNAME:CEST
DTSTART:20270328T010000
END:DAYLIGHT
BEGIN:STANDARD
TZOFFSETFROM:+0200
TZOFFSETTO:+0100
TZNAME:CET
DTSTART:20271031T010000
END:STANDARD
END:VTIMEZONE
BEGIN:VEVENT
DTSTART;TZID=Europe/Berlin:20260430T183000
DTEND;TZID=Europe/Berlin:20260430T183000
DTSTAMP:20260420T151634
CREATED:20260420T073527Z
LAST-MODIFIED:20260420T073527Z
UID:17019-1777573800-1777573800@fsv-sandharlanden.de
SUMMARY:Maifeier der Dorfgemeinschaft
DESCRIPTION:Einladung an alle Sandharlandener! \nDie Tradition lebt weiter. Die jährliche Maifeier (dieses Jahr ohne Maibaumaufstellen) findet dieses Jahr am Dorfplatz statt. \nEs gibt wieder flüssige Spezialitäten der Brauereien Schneider und Kuchlbauer. Auch hier ein riesen Dankeschön!
URL:https://fsv-sandharlanden.de/event/maifeier-der-dorfgemeinschaft-2/
LOCATION:Dorfplatz Sandharlanden\, Sandharlanden
CATEGORIES:Bogenschützen,Fußball,Fußball Jugend,Hauptverein,Kegeln,Konditionsgruppe,Ski-Abteilung,Sportgaststätte,Tennis
ATTACH;FMTTYPE=image/png:https://fsv-sandharlanden.de/wp-content/uploads/2024/04/Maibaum.png
END:VEVENT
END:VCALENDAR