BEGIN:VCALENDAR
VERSION:2.0
PRODID:-//FSV Sandharlanden - ECPv6.15.18//NONSGML v1.0//EN
CALSCALE:GREGORIAN
METHOD:PUBLISH
X-ORIGINAL-URL:https://fsv-sandharlanden.de
X-WR-CALDESC:Veranstaltungen für FSV Sandharlanden
REFRESH-INTERVAL;VALUE=DURATION:PT1H
X-Robots-Tag:noindex
X-PUBLISHED-TTL:PT1H
BEGIN:VTIMEZONE
TZID:Europe/Berlin
BEGIN:DAYLIGHT
TZOFFSETFROM:+0100
TZOFFSETTO:+0200
TZNAME:CEST
DTSTART:20250330T010000
END:DAYLIGHT
BEGIN:STANDARD
TZOFFSETFROM:+0200
TZOFFSETTO:+0100
TZNAME:CET
DTSTART:20251026T010000
END:STANDARD
BEGIN:DAYLIGHT
TZOFFSETFROM:+0100
TZOFFSETTO:+0200
TZNAME:CEST
DTSTART:20260329T010000
END:DAYLIGHT
BEGIN:STANDARD
TZOFFSETFROM:+0200
TZOFFSETTO:+0100
TZNAME:CET
DTSTART:20261025T010000
END:STANDARD
BEGIN:DAYLIGHT
TZOFFSETFROM:+0100
TZOFFSETTO:+0200
TZNAME:CEST
DTSTART:20270328T010000
END:DAYLIGHT
BEGIN:STANDARD
TZOFFSETFROM:+0200
TZOFFSETTO:+0100
TZNAME:CET
DTSTART:20271031T010000
END:STANDARD
END:VTIMEZONE
BEGIN:VEVENT
DTSTART;TZID=Europe/Berlin:20260315T113000
DTEND;TZID=Europe/Berlin:20260315T113000
DTSTAMP:20260424T131636
CREATED:20260313T064440Z
LAST-MODIFIED:20260313T064440Z
UID:16836-1773574200-1773574200@fsv-sandharlanden.de
SUMMARY:15.03.2026: Schweinebraten mit Semmelknödel und Sauerkraut in der Sportgaststätte
DESCRIPTION:
URL:https://fsv-sandharlanden.de/event/16-03-2025-rinderroulade-mit-blaukraut-und-kartoffelbrei-in-der-sportgaststaette-2/
LOCATION:FSV Sportheim\, Waldstadion 1\, Sandharlanden\, 93326\, Deutschland
CATEGORIES:Sportgaststätte
ATTACH;FMTTYPE=image/jpeg:https://fsv-sandharlanden.de/wp-content/uploads/2021/10/Sportheim.jpg
ORGANIZER;CN="Sportgastst%C3%A4tte FSV Sandharlanden":MAILTO:wirt@vereinsheim-sandharlanden.de
END:VEVENT
BEGIN:VEVENT
DTSTART;TZID=Europe/Berlin:20260315T180000
DTEND;TZID=Europe/Berlin:20260315T200000
DTSTAMP:20260424T131636
CREATED:20260223T061610Z
LAST-MODIFIED:20260223T061610Z
UID:16792-1773597600-1773604800@fsv-sandharlanden.de
SUMMARY:Jahreshauptversammlung - Bayernfanclub "Sandhasn97"
DESCRIPTION:Einladung mit Tagesordnung wurde an alle Mitglieder versendet.
URL:https://fsv-sandharlanden.de/event/jahreshauptversammlung-bayernfanclub-sandhasn97-3/
LOCATION:FSV Sportheim\, Waldstadion 1\, Sandharlanden\, 93326\, Deutschland
CATEGORIES:Sandhasn 97
ATTACH;FMTTYPE=image/png:https://fsv-sandharlanden.de/wp-content/uploads/2019/11/Logo_Sandhasn97.png
END:VEVENT
END:VCALENDAR