BEGIN:VCALENDAR
VERSION:2.0
PRODID:-//FSV Sandharlanden - ECPv6.15.18//NONSGML v1.0//EN
CALSCALE:GREGORIAN
METHOD:PUBLISH
X-WR-CALNAME:FSV Sandharlanden
X-ORIGINAL-URL:https://fsv-sandharlanden.de
X-WR-CALDESC:Veranstaltungen für FSV Sandharlanden
REFRESH-INTERVAL;VALUE=DURATION:PT1H
X-Robots-Tag:noindex
X-PUBLISHED-TTL:PT1H
BEGIN:VTIMEZONE
TZID:Europe/Berlin
BEGIN:DAYLIGHT
TZOFFSETFROM:+0100
TZOFFSETTO:+0200
TZNAME:CEST
DTSTART:20250330T010000
END:DAYLIGHT
BEGIN:STANDARD
TZOFFSETFROM:+0200
TZOFFSETTO:+0100
TZNAME:CET
DTSTART:20251026T010000
END:STANDARD
BEGIN:DAYLIGHT
TZOFFSETFROM:+0100
TZOFFSETTO:+0200
TZNAME:CEST
DTSTART:20260329T010000
END:DAYLIGHT
BEGIN:STANDARD
TZOFFSETFROM:+0200
TZOFFSETTO:+0100
TZNAME:CET
DTSTART:20261025T010000
END:STANDARD
BEGIN:DAYLIGHT
TZOFFSETFROM:+0100
TZOFFSETTO:+0200
TZNAME:CEST
DTSTART:20270328T010000
END:DAYLIGHT
BEGIN:STANDARD
TZOFFSETFROM:+0200
TZOFFSETTO:+0100
TZNAME:CET
DTSTART:20271031T010000
END:STANDARD
END:VTIMEZONE
BEGIN:VEVENT
DTSTART;VALUE=DATE:20260207
DTEND;VALUE=DATE:20260208
DTSTAMP:20260422T140147
CREATED:20251020T055045Z
LAST-MODIFIED:20251110T063738Z
UID:16544-1770422400-1770508799@fsv-sandharlanden.de
SUMMARY:Tagesfahrt Fieberbrunn - Skiclub
DESCRIPTION:>>> HIER geht´s zur Anmeldung
URL:https://fsv-sandharlanden.de/event/tagesfahrt-fieberbrunn-skiclub-3/
LOCATION:Fieberbrunn
CATEGORIES:Hauptverein,Ski-Abteilung
ATTACH;FMTTYPE=image/png:https://fsv-sandharlanden.de/wp-content/uploads/2019/11/logo-skischule-monte-kapello-sandharlanden.png
END:VEVENT
BEGIN:VEVENT
DTSTART;TZID=Europe/Berlin:20260207T140000
DTEND;TZID=Europe/Berlin:20260207T140000
DTSTAMP:20260422T140147
CREATED:20260119T062833Z
LAST-MODIFIED:20260119T063117Z
UID:16738-1770472800-1770472800@fsv-sandharlanden.de
SUMMARY:Seniorenfasching in der Sportgaststätte - KLJB
DESCRIPTION:  \n\nAuftritt Babonia Abensberg\nKaffee/ Kuchen und Getränke\n\nOrganisation: KLJB Sandharlanden mit finazieller Unterstützung der Stadt Abensberg \n 
URL:https://fsv-sandharlanden.de/event/seniorenfasching-in-der-sportgaststaette-2/
LOCATION:FSV Sportheim\, Waldstadion 1\, Sandharlanden\, 93326\, Deutschland
CATEGORIES:Hauptverein,KLJB,Sportgaststätte
ATTACH;FMTTYPE=image/jpeg:https://fsv-sandharlanden.de/wp-content/uploads/2026/01/Fasching.jpg
END:VEVENT
END:VCALENDAR