BEGIN:VCALENDAR
VERSION:2.0
PRODID:-//FSV Sandharlanden - ECPv6.15.18//NONSGML v1.0//EN
CALSCALE:GREGORIAN
METHOD:PUBLISH
X-ORIGINAL-URL:https://fsv-sandharlanden.de
X-WR-CALDESC:Veranstaltungen für FSV Sandharlanden
REFRESH-INTERVAL;VALUE=DURATION:PT1H
X-Robots-Tag:noindex
X-PUBLISHED-TTL:PT1H
BEGIN:VTIMEZONE
TZID:Europe/Berlin
BEGIN:DAYLIGHT
TZOFFSETFROM:+0100
TZOFFSETTO:+0200
TZNAME:CEST
DTSTART:20240331T010000
END:DAYLIGHT
BEGIN:STANDARD
TZOFFSETFROM:+0200
TZOFFSETTO:+0100
TZNAME:CET
DTSTART:20241027T010000
END:STANDARD
BEGIN:DAYLIGHT
TZOFFSETFROM:+0100
TZOFFSETTO:+0200
TZNAME:CEST
DTSTART:20250330T010000
END:DAYLIGHT
BEGIN:STANDARD
TZOFFSETFROM:+0200
TZOFFSETTO:+0100
TZNAME:CET
DTSTART:20251026T010000
END:STANDARD
BEGIN:DAYLIGHT
TZOFFSETFROM:+0100
TZOFFSETTO:+0200
TZNAME:CEST
DTSTART:20260329T010000
END:DAYLIGHT
BEGIN:STANDARD
TZOFFSETFROM:+0200
TZOFFSETTO:+0100
TZNAME:CET
DTSTART:20261025T010000
END:STANDARD
END:VTIMEZONE
BEGIN:VEVENT
DTSTART;TZID=Europe/Berlin:20250811T180000
DTEND;TZID=Europe/Berlin:20250811T190000
DTSTAMP:20260424T170031
CREATED:20250404T061350Z
LAST-MODIFIED:20250805T050213Z
UID:15913-1754935200-1754938800@fsv-sandharlanden.de
SUMMARY:FitMix - Fitness Kurs - FSV Sandharlanden
DESCRIPTION:>>> HIER gehts zur Anmeldung <<< \nFitMix ist ein Kurs für ALLE\, die ihre Leistungs- und Koordinationsfähigleit ausbauen und halten möchten. Durch die Kombination aus Konditions- und Koordinationstraining sowie verschiedenen Kraftübungen kommt garantiert jede/r ins Schwitzen und kann durch regelmäßige Teilnahme erschaunliche Fitness-Verbesserungen erzielen.
URL:https://fsv-sandharlanden.de/event/fitmix-fitness-kurs-fsv-sandharlanden-3-2-2-2-2-2-2/
LOCATION:FSV Turnhalle
CATEGORIES:Bogenschützen,Fußball,Hauptverein,Kegeln,Konditionsgruppe,Ski-Abteilung,Skiclub Bike-Team,Sportgaststätte,Tennis
ATTACH;FMTTYPE=image/jpeg:https://fsv-sandharlanden.de/wp-content/uploads/2025/04/FitMix.jpg
END:VEVENT
END:VCALENDAR