BEGIN:VCALENDAR
VERSION:2.0
PRODID:-//FSV Sandharlanden - ECPv6.15.18//NONSGML v1.0//EN
CALSCALE:GREGORIAN
METHOD:PUBLISH
X-WR-CALNAME:FSV Sandharlanden
X-ORIGINAL-URL:https://fsv-sandharlanden.de
X-WR-CALDESC:Veranstaltungen für FSV Sandharlanden
REFRESH-INTERVAL;VALUE=DURATION:PT1H
X-Robots-Tag:noindex
X-PUBLISHED-TTL:PT1H
BEGIN:VTIMEZONE
TZID:Europe/Berlin
BEGIN:DAYLIGHT
TZOFFSETFROM:+0100
TZOFFSETTO:+0200
TZNAME:CEST
DTSTART:20240331T010000
END:DAYLIGHT
BEGIN:STANDARD
TZOFFSETFROM:+0200
TZOFFSETTO:+0100
TZNAME:CET
DTSTART:20241027T010000
END:STANDARD
BEGIN:DAYLIGHT
TZOFFSETFROM:+0100
TZOFFSETTO:+0200
TZNAME:CEST
DTSTART:20250330T010000
END:DAYLIGHT
BEGIN:STANDARD
TZOFFSETFROM:+0200
TZOFFSETTO:+0100
TZNAME:CET
DTSTART:20251026T010000
END:STANDARD
BEGIN:DAYLIGHT
TZOFFSETFROM:+0100
TZOFFSETTO:+0200
TZNAME:CEST
DTSTART:20260329T010000
END:DAYLIGHT
BEGIN:STANDARD
TZOFFSETFROM:+0200
TZOFFSETTO:+0100
TZNAME:CET
DTSTART:20261025T010000
END:STANDARD
END:VTIMEZONE
BEGIN:VEVENT
DTSTART;VALUE=DATE:20250710
DTEND;VALUE=DATE:20250717
DTSTAMP:20260426T055204
CREATED:20250617T050858Z
LAST-MODIFIED:20250702T054202Z
UID:16138-1752105600-1752710399@fsv-sandharlanden.de
SUMMARY:Trainingslager SSV Jahn Regensburg
DESCRIPTION:Bereits zum fünften Mal (2021-2025) darf der FSV Sandharlanden\, auch Partnerverein der Regensburger\, die Profimannschaft des SSV Jahn Regensburg vom 10. – 17. Juli 2025 im Waldstadion begrüßen! In Zusammenarbeit mit dem Hotel Monarch in Bad Gögging kommt der Jahn um Sportchef Achim Beierlorzer zum Trainingslager nach Sandharlanden und wird dabei in der Vorbereitung zur Dritt-Ligasaison 2025/26 täglich 2 Einheiten absolvieren. \nAm Freitag 11. Juli findet zudem ein Testspiel im Sandharlandener Waldstadion statt. Gegner ist um 16:00 Uhr die SpVgg Unterhaching mit Trainer Sven Bender und Präsident Markus Schwabl. \nEin weiteres Testspiel ist für Mittwoch den 16. Juli um 17:00 Uhr beim FSV Sandharlanden geplant. Hier ist Al Wahda aus den Vereinigten Arabischen Emirate der Gegner vom SSV Jahn. Die Mannschaft aus Dubai hat 7 A- Nationalspieler im Kader und laut Transfermarkt.de einen Marktwert von ca. 34 Mio. Euro. \nVorläufige Trainingszeiten SSV Jahn Regensburg: \n10. Juli\, 15:30 Uhr\n12. Juli\, 10:00 Uhr\n11. Juli\, 10:00 Uhr (Aktivierung)\, 16:00 Uhr SSV – Unterhaching\n13. Juli\, 10:00 Uhr\, 16:30 Uhr\n14. Juli\, 10:00 Uhr\, 16:30 Uhr\n15. Juli\, 10:00 Uhr\, 16:30 Uhr\n16. Juli\, 10:00 Uhr (Aktivierung)\, 17:00 Uhr SSV – Al Wahda\n17. Juli 10:00 Uhr\, 15:30 Uhr \n \n 
URL:https://fsv-sandharlanden.de/event/trainingslager-ssv-jahn-regensburg-2/
LOCATION:Sportgelände FSV Sandharlanden\, Waldstadion 1\, Sandharlanden\, 93326
CATEGORIES:Fußball,Fußball Jugend,Hauptverein
ATTACH;FMTTYPE=image/png:https://fsv-sandharlanden.de/wp-content/uploads/2021/06/SSV-Jahn-Regensburg-Logo.png
END:VEVENT
END:VCALENDAR